BEGIN:VCALENDAR
PRODID:-//eluceo/ical//2.0/EN
VERSION:2.0
CALSCALE:GREGORIAN
BEGIN:VEVENT
UID:096a324a329dca0c924298d7041fdc66
DTSTAMP:20260420T101507Z
SUMMARY:Wenn die Erde erblüht - ein Frühlingsritual in Ollersbach
DESCRIPTION:Frühlingsritual im Einklang mit der Natur\nLebensfreude spüre
 n\, Wurzeln stärken\, neu erblühen\n\nmit\nAngela Lahmer-Hackl\, Theolog
 in\, Ritualleiterin\, Erwachsenenbildnerin & Tanzleiterin für internation
 ale Kreistänze\nMarion Mühlbauer-Stiefvater\, Theologin\, Religionslehre
 rin\, Ritualleiterin\n\nUnsere Jahreszeiten spiegeln die Phasen unseres ei
 genen Lebens wider. Im Europäischen Lebensrad erkennen wir\, wie eng unse
 r persönlicher Weg mit den Rhythmen der Natur verbunden ist – und wie w
 ir diese Weisheit bewusst in unseren Alltag integrieren können. \nAn dies
 em Abend tauchen wir in die Kraft und Energie des Frühlings ein. Gemeinsa
 m verbinden wir den natürlichen Zyklus des Erwachens mit unserem eigenen 
 \nNeubeginn und lassen uns von der stärkenden Botschaft von Ostern inspir
 ieren. \nRituale schenken unserem Leben Tiefe\, Halt und Verbundenheit –
  im \npersönlichen Alltag ebenso wie in der Gemeinschaft. Sie öffnen ein
 en Raum\, \nin dem Wachstum\, Lebensfreude und neue Zuversicht entstehen d
 ürfen.\nWir freuen uns auf einen sehr interessanten Abend!\nKBW-Team der 
 Pfarre Ollersbach\n\n(file: ollersbach-2026-05-07.pdf text: Einladung zum 
 Download und Weitergeben an Interessierte)
DTSTART:20260507T190000
DTEND:20260507T200000
LOCATION:Pfarrsaal 3061 Ollersbach\, Kirchenstraße 18
END:VEVENT
END:VCALENDAR
